BEGIN:VCALENDAR
VERSION:2.0
PRODID:-//Villa Milagro Vineyards - ECPv6.8.3//NONSGML v1.0//EN
CALSCALE:GREGORIAN
METHOD:PUBLISH
X-ORIGINAL-URL:https://www.villamilagrovineyards.com
X-WR-CALDESC:Events for Villa Milagro Vineyards
REFRESH-INTERVAL;VALUE=DURATION:PT1H
X-Robots-Tag:noindex
X-PUBLISHED-TTL:PT1H
BEGIN:VTIMEZONE
TZID:UTC
BEGIN:STANDARD
TZOFFSETFROM:+0000
TZOFFSETTO:+0000
TZNAME:UTC
DTSTART:20250101T000000
END:STANDARD
END:VTIMEZONE
BEGIN:VEVENT
DTSTART;TZID=UTC:20251004T130000
DTEND;TZID=UTC:20251004T170000
DTSTAMP:20260419T140426
CREATED:20250815T152658Z
LAST-MODIFIED:20250815T152705Z
UID:6834-1759582800-1759597200@www.villamilagrovineyards.com
SUMMARY:Music at Milagro - Featuring Ken Papa
DESCRIPTION:Ken Papa\, a NYC session guitarist and vocalist who has worked with Pee Wee Ellis (James Brown’s Musical Director) and Mark Rivera (Billy Joel sax man and Ringo Starr’s Musical Director)\, will be performing at the winery on October 4th from 1-5PM. Locally with the group “The Hip Replacements”\, and Jazz Quintet Jen Ein jazs\, Ken will be performing R&B Pop and friendly Jazz tunes from the 70’s to the present!
URL:https://www.villamilagrovineyards.com/event/music-at-milagro-featuring-ken-papa/
LOCATION:Villa Milagro Vineyards\, 33 County Road 627\, Phillipsburg\, NJ\, 08865\, United States
CATEGORIES:Music at Milagro
ATTACH;FMTTYPE=image/jpeg:https://www.villamilagrovineyards.com/wp-content/uploads/2025/08/Ken-Papa.jpg
END:VEVENT
BEGIN:VEVENT
DTSTART;TZID=UTC:20251004T183000
DTEND;TZID=UTC:20251004T203000
DTSTAMP:20260419T140426
CREATED:20250815T153056Z
LAST-MODIFIED:20250829T133028Z
UID:6838-1759602600-1759609800@www.villamilagrovineyards.com
SUMMARY:Little Red Rooster Blues Band
DESCRIPTION:In 1988 two Bucks County high school grads started a blues “band” with a guitar and mouth harp. As their popularity grew\, they added a harmonica player (1996) then a drummer in 2013 and bass in 2015.  In addition to blues standards\, Little Red Rooster has produced eight CDs of which seven are all original material.  In 2019 their Lock up and Liquor release won the International Blues Challenge by the Blues Foundation of Memphis.  \nAdvance Tickets: $20 | At the Door Tickets: $25 \nBuy Your Ticket HERE
URL:https://www.villamilagrovineyards.com/event/little-red-rooster-blues-band-2/
LOCATION:Villa Milagro Vineyards\, 33 County Road 627\, Phillipsburg\, NJ\, 08865\, United States
CATEGORIES:Concerts
ATTACH;FMTTYPE=image/jpeg:https://www.villamilagrovineyards.com/wp-content/uploads/2025/08/thumbnail_Little-Red-Rooster-band.jpg
END:VEVENT
BEGIN:VEVENT
DTSTART;TZID=UTC:20251011T130000
DTEND;TZID=UTC:20251011T170000
DTSTAMP:20260419T140426
CREATED:20250815T153745Z
LAST-MODIFIED:20250815T153745Z
UID:6842-1760187600-1760202000@www.villamilagrovineyards.com
SUMMARY:Music at Milagro - Featuring Dave Read
DESCRIPTION:When Dave Read performs\, people sing along. Why? No idea! Folks love him and love his selection of “sing-along” songs! Turn up your vocal cords. Pack a picnic and enjoy the music under the pergola. Reservations required for groups over 4 – call 908-995-2072
URL:https://www.villamilagrovineyards.com/event/music-at-milagro-featuring-dave-read-2/
LOCATION:Villa Milagro Vineyards\, 33 County Road 627\, Phillipsburg\, NJ\, 08865\, United States
CATEGORIES:Music at Milagro
ATTACH;FMTTYPE=image/png:https://www.villamilagrovineyards.com/wp-content/uploads/2025/06/Screenshot-2024-08-07-160237.png
END:VEVENT
BEGIN:VEVENT
DTSTART;TZID=UTC:20251011T183000
DTEND;TZID=UTC:20251011T183000
DTSTAMP:20260419T140426
CREATED:20250820T193136Z
LAST-MODIFIED:20250820T193400Z
UID:6866-1760207400-1760207400@www.villamilagrovineyards.com
SUMMARY:Dine in the Vines - Italian Porchetta Dinner
DESCRIPTION:Dine in the Vines\nTickets\nItalian Porchetta Dinner\n \n \n \nReservations are Required\nPurchase Tickets Here
URL:https://www.villamilagrovineyards.com/event/dine-in-the-vines-italian-porchetta-dinner/
LOCATION:Villa Milagro Vineyards\, 33 County Road 627\, Phillipsburg\, NJ\, 08865\, United States
CATEGORIES:Dine in the Vines
ATTACH;FMTTYPE=image/webp:https://www.villamilagrovineyards.com/wp-content/uploads/2025/08/4DJO7AHBZO7VAG3IIGIFNJQN.webp
END:VEVENT
BEGIN:VEVENT
DTSTART;TZID=UTC:20251018T130000
DTEND;TZID=UTC:20251018T170000
DTSTAMP:20260419T140426
CREATED:20250815T153518Z
LAST-MODIFIED:20250815T153518Z
UID:6840-1760792400-1760806800@www.villamilagrovineyards.com
SUMMARY:Music at Milagro - Featuring Joe Izen
DESCRIPTION:Joe Izen is the voice of many famous commercials – a silky voice that you will love! From ballads to love songs to popular tunes\, his mastery of guitar and voice will help you lull away the afternoon. Reservations required for groups over 4 – call 908-995-2072
URL:https://www.villamilagrovineyards.com/event/music-at-milagro-featuring-joe-izen-3/
LOCATION:Villa Milagro Vineyards\, 33 County Road 627\, Phillipsburg\, NJ\, 08865\, United States
CATEGORIES:Music at Milagro
ATTACH;FMTTYPE=image/png:https://www.villamilagrovineyards.com/wp-content/uploads/2025/06/Screenshot-2024-08-07-160451.png
END:VEVENT
BEGIN:VEVENT
DTSTART;TZID=UTC:20251019T133000
DTEND;TZID=UTC:20251019T170000
DTSTAMP:20260419T140426
CREATED:20250815T154152Z
LAST-MODIFIED:20250829T132928Z
UID:6844-1760880600-1760893200@www.villamilagrovineyards.com
SUMMARY:The Grey Man Group
DESCRIPTION:Jimmy Leahy\, leader of the Grey Man Group\, started playing guitar at age 7\, learning from his dad\, Harry… a well-known jazz player and a prolific teacher in New Jersey. Jimmy has toured and recorded with John Waite\, Patty Smyth\, Martha Davis\, Gloria Gaynor\, Alison Krauss and has just retired from playing with Dennis DeYoung\, from Styx. \nAdvance Tickets are $20 | At the Door Tickets are $25 \nBuy Your Tickets HERE\n  \n 
URL:https://www.villamilagrovineyards.com/event/the-grey-man-group-2/
LOCATION:Villa Milagro Vineyards\, 33 County Road 627\, Phillipsburg\, NJ\, 08865\, United States
CATEGORIES:Concerts
ATTACH;FMTTYPE=image/jpeg:https://www.villamilagrovineyards.com/wp-content/uploads/2025/06/Grey-Man-Group.jpg
END:VEVENT
BEGIN:VEVENT
DTSTART;TZID=UTC:20251025T130000
DTEND;TZID=UTC:20251025T170000
DTSTAMP:20260419T140426
CREATED:20250815T154443Z
LAST-MODIFIED:20250815T154443Z
UID:6846-1761397200-1761411600@www.villamilagrovineyards.com
SUMMARY:Music at Milagro - Featuring Sonia Weimann
DESCRIPTION:A multitalented musician\, Sonia Weimann brings her unique creative flair to an eclectic mix of music\, from classic rock to jazz standards. Her warm tones and inviting style often inspire other musicians to join in—so each performance holds the promise of surprise guests. A gifted guitarist and “silver-throated” vocalist\, Sonia is also a neuroscientist—yes\, really—who performs straight from the heart. Pack a picnic and enjoy the show. Reservations are required for groups of four or more—call 908-995-2072.
URL:https://www.villamilagrovineyards.com/event/music-at-milagro-featuring-sonia-weimann-3/
LOCATION:Villa Milagro Vineyards\, 33 County Road 627\, Phillipsburg\, NJ\, 08865\, United States
CATEGORIES:Music at Milagro
ATTACH;FMTTYPE=image/jpeg:https://www.villamilagrovineyards.com/wp-content/uploads/2025/06/Sonia-Weinmann.jpg
END:VEVENT
END:VCALENDAR