BEGIN:VCALENDAR
VERSION:2.0
PRODID:-//Villa Milagro Vineyards - ECPv6.8.3//NONSGML v1.0//EN
CALSCALE:GREGORIAN
METHOD:PUBLISH
X-ORIGINAL-URL:https://www.villamilagrovineyards.com
X-WR-CALDESC:Events for Villa Milagro Vineyards
REFRESH-INTERVAL;VALUE=DURATION:PT1H
X-Robots-Tag:noindex
X-PUBLISHED-TTL:PT1H
BEGIN:VTIMEZONE
TZID:UTC
BEGIN:STANDARD
TZOFFSETFROM:+0000
TZOFFSETTO:+0000
TZNAME:UTC
DTSTART:20250101T000000
END:STANDARD
END:VTIMEZONE
BEGIN:VEVENT
DTSTART;TZID=UTC:20250308T130000
DTEND;TZID=UTC:20250308T150000
DTSTAMP:20260419T122019
CREATED:20250210T162605Z
LAST-MODIFIED:20250528T203906Z
UID:4901-1741438800-1741446000@www.villamilagrovineyards.com
SUMMARY:Wine Tasting Classes (Tastebud Bootcamp)
DESCRIPTION:REGISTER NOW! \nUnlock the Secrets of Wine with Our Tastebud Bootcamp! \nFeeling overwhelmed by wine labels or puzzled by descriptions like “an afternoon at the beach” or “hints of cherry”? You’re not alone! \nJoin our Tastebud Bootcamp—a class designed to train your palate to fully appreciate wine. Forget what others claim to taste; what matters is what you experience. You’ll learn to identify key flavor components\, including sugars\, acids\, alcohol levels\, tannins\, and more. \nIn this engaging 2-hour class\, you’ll: \n\nUnderstand the Science of Taste – Learn how taste works\, the basic flavor profiles\, and what factors can influence your palate.\nExplore Wine Flavors – Discover the key differences between red and white wines and how their unique flavors develop.\nHands-On Flavor Labs – Taste samples to identify sugar\, alcohol\, tannins\, and acidity levels\, and see how these elements create complex wine profiles.\nExperience Flavor Like a Pro – Identify characteristic wine notes like prunes\, raisins\, raspberries\, and more.\nPractice with Real Wines – Apply your new skills using a wine grading sheet similar to those used by professional wine judges.\n\nPlus\, you’ll receive instructional materials\, tasting samples\, a souvenir glass\, a 10% discount on wines\, and yes… a little homework (!!) to keep your palate sharp. \nJoin us and transform the way you experience wine—one sip at a time! \nRegister Today!
URL:https://www.villamilagrovineyards.com/event/wine-tasting-classes-tastebud-bootcamp-3/
LOCATION:Villa Milagro Vineyards\, 33 County Road 627\, Phillipsburg\, NJ\, 08865\, United States
CATEGORIES:Bootcamp,Special Events
ATTACH;FMTTYPE=image/png:https://www.villamilagrovineyards.com/wp-content/uploads/2025/02/2_6-Bootcamp-1.png
END:VEVENT
BEGIN:VEVENT
DTSTART;TZID=UTC:20250315T130000
DTEND;TZID=UTC:20250315T150000
DTSTAMP:20260419T122019
CREATED:20250210T162328Z
LAST-MODIFIED:20250528T203401Z
UID:4903-1742043600-1742050800@www.villamilagrovineyards.com
SUMMARY:Wine Tasting Classes (Tastebud Bootcamp)
DESCRIPTION:REGISTER NOW! \nUnlock the Secrets of Wine with Our Tastebud Bootcamp! \nFeeling overwhelmed by wine labels or puzzled by descriptions like “an afternoon at the beach” or “hints of cherry”? You’re not alone! \nJoin our Tastebud Bootcamp—a class designed to train your palate to fully appreciate wine. Forget what others claim to taste; what matters is what you experience. You’ll learn to identify key flavor components\, including sugars\, acids\, alcohol levels\, tannins\, and more. \nIn this engaging 2-hour class\, you’ll: \n\nUnderstand the Science of Taste – Learn how taste works\, the basic flavor profiles\, and what factors can influence your palate.\nExplore Wine Flavors – Discover the key differences between red and white wines and how their unique flavors develop.\nHands-On Flavor Labs – Taste samples to identify sugar\, alcohol\, tannins\, and acidity levels\, and see how these elements create complex wine profiles.\nExperience Flavor Like a Pro – Identify characteristic wine notes like prunes\, raisins\, raspberries\, and more.\nPractice with Real Wines – Apply your new skills using a wine grading sheet similar to those used by professional wine judges.\n\nPlus\, you’ll receive instructional materials\, tasting samples\, a souvenir glass\, a 10% discount on wines\, and yes… a little homework (!!) to keep your palate sharp. \nJoin us and transform the way you experience wine—one sip at a time! \nRegister Today!
URL:https://www.villamilagrovineyards.com/event/wine-tasting-classes-tastebud-bootcamp/
LOCATION:Villa Milagro Vineyards\, 33 County Road 627\, Phillipsburg\, NJ\, 08865\, United States
CATEGORIES:Bootcamp,Special Events
ATTACH;FMTTYPE=image/png:https://www.villamilagrovineyards.com/wp-content/uploads/2025/02/2_6-Bootcamp-1.png
END:VEVENT
BEGIN:VEVENT
DTSTART;TZID=UTC:20250322T130000
DTEND;TZID=UTC:20250322T150000
DTSTAMP:20260419T122019
CREATED:20250210T162711Z
LAST-MODIFIED:20250528T203302Z
UID:4905-1742648400-1742655600@www.villamilagrovineyards.com
SUMMARY:Wine Tasting Classes (Tastebud Bootcamp)
DESCRIPTION:REGISTER NOW! \nUnlock the Secrets of Wine with Our Tastebud Bootcamp! \nFeeling overwhelmed by wine labels or puzzled by descriptions like “an afternoon at the beach” or “hints of cherry”? You’re not alone! \nJoin our Tastebud Bootcamp—a class designed to train your palate to fully appreciate wine. Forget what others claim to taste; what matters is what you experience. You’ll learn to identify key flavor components\, including sugars\, acids\, alcohol levels\, tannins\, and more. \nIn this engaging 2-hour class\, you’ll: \n\nUnderstand the Science of Taste – Learn how taste works\, the basic flavor profiles\, and what factors can influence your palate.\nExplore Wine Flavors – Discover the key differences between red and white wines and how their unique flavors develop.\nHands-On Flavor Labs – Taste samples to identify sugar\, alcohol\, tannins\, and acidity levels\, and see how these elements create complex wine profiles.\nExperience Flavor Like a Pro – Identify characteristic wine notes like prunes\, raisins\, raspberries\, and more.\nPractice with Real Wines – Apply your new skills using a wine grading sheet similar to those used by professional wine judges.\n\nPlus\, you’ll receive instructional materials\, tasting samples\, a souvenir glass\, a 10% discount on wines\, and yes… a little homework (!!) to keep your palate sharp. \nJoin us and transform the way you experience wine—one sip at a time! \nRegister Today!
URL:https://www.villamilagrovineyards.com/event/wine-tasting-classes-tastebud-bootcamp-5/
LOCATION:Villa Milagro Vineyards\, 33 County Road 627\, Phillipsburg\, NJ\, 08865\, United States
CATEGORIES:Bootcamp,Special Events
ATTACH;FMTTYPE=image/png:https://www.villamilagrovineyards.com/wp-content/uploads/2025/02/2_6-Bootcamp-1.png
END:VEVENT
BEGIN:VEVENT
DTSTART;TZID=UTC:20250329T130000
DTEND;TZID=UTC:20250329T150000
DTSTAMP:20260419T122019
CREATED:20250210T162639Z
LAST-MODIFIED:20250528T203425Z
UID:4907-1743253200-1743260400@www.villamilagrovineyards.com
SUMMARY:Wine Tasting Classes (Tastebud Bootcamp)
DESCRIPTION:REGISTER NOW! \nUnlock the Secrets of Wine with Our Tastebud Bootcamp! \nFeeling overwhelmed by wine labels or puzzled by descriptions like “an afternoon at the beach” or “hints of cherry”? You’re not alone! \nJoin our Tastebud Bootcamp—a class designed to train your palate to fully appreciate wine. Forget what others claim to taste; what matters is what you experience. You’ll learn to identify key flavor components\, including sugars\, acids\, alcohol levels\, tannins\, and more. \nIn this engaging 2-hour class\, you’ll: \n\nUnderstand the Science of Taste – Learn how taste works\, the basic flavor profiles\, and what factors can influence your palate.\nExplore Wine Flavors – Discover the key differences between red and white wines and how their unique flavors develop.\nHands-On Flavor Labs – Taste samples to identify sugar\, alcohol\, tannins\, and acidity levels\, and see how these elements create complex wine profiles.\nExperience Flavor Like a Pro – Identify characteristic wine notes like prunes\, raisins\, raspberries\, and more.\nPractice with Real Wines – Apply your new skills using a wine grading sheet similar to those used by professional wine judges.\n\nPlus\, you’ll receive instructional materials\, tasting samples\, a souvenir glass\, a 10% discount on wines\, and yes… a little homework (!!) to keep your palate sharp. \nJoin us and transform the way you experience wine—one sip at a time! \nRegister Today!
URL:https://www.villamilagrovineyards.com/event/wine-tasting-classes-tastebud-bootcamp-4/
LOCATION:Villa Milagro Vineyards\, 33 County Road 627\, Phillipsburg\, NJ\, 08865\, United States
CATEGORIES:Bootcamp,Special Events
ATTACH;FMTTYPE=image/png:https://www.villamilagrovineyards.com/wp-content/uploads/2025/02/2_6-Bootcamp-1.png
END:VEVENT
END:VCALENDAR