BEGIN:VCALENDAR
VERSION:2.0
PRODID:-//Villa Milagro Vineyards - ECPv6.8.3//NONSGML v1.0//EN
CALSCALE:GREGORIAN
METHOD:PUBLISH
X-ORIGINAL-URL:https://www.villamilagrovineyards.com
X-WR-CALDESC:Events for Villa Milagro Vineyards
REFRESH-INTERVAL;VALUE=DURATION:PT1H
X-Robots-Tag:noindex
X-PUBLISHED-TTL:PT1H
BEGIN:VTIMEZONE
TZID:UTC
BEGIN:STANDARD
TZOFFSETFROM:+0000
TZOFFSETTO:+0000
TZNAME:UTC
DTSTART:20250101T000000
END:STANDARD
END:VTIMEZONE
BEGIN:VEVENT
DTSTART;TZID=UTC:20250621T183000
DTEND;TZID=UTC:20250621T210000
DTSTAMP:20260424T065106
CREATED:20250527T214438Z
LAST-MODIFIED:20250531T192950Z
UID:5607-1750530600-1750539600@www.villamilagrovineyards.com
SUMMARY:Dine in the Vines
DESCRIPTION:CLICK HERE FOR TICKETS \nChefs Odil & Lena Koorie (sisters/owners) of Daddy’s Place in Easton will prepare a luscious Lebanese dinner for us.  Prepare to leave stuffed like a grape leaf! \nMezza Plate (sald-appetizer-combo) – baby greens topped with Cucmber Labne\, Beirut-style Hummus\, Tabouli\, Feta and Domathakia (made with Villa Milagro Vineyard grape leaves!) \nMain –  Lebanese Kabobs of beef & lamb (marinated then grilled to perfection)\, classic rice with toasted almonds\, skewered\, grilled fresh vegetables \nDessert – Baklava\, Maamoul\, Babousa and Coffee (desserts made by women of Our Lady of Lebanon Maronite Catholic Church\, Easton) \nYou can purchase tickets online here.
URL:https://www.villamilagrovineyards.com/event/sunset-dinner-at-the-vineyard/
LOCATION:Villa Milagro Vineyards\, 33 County Road 627\, Phillipsburg\, NJ\, 08865\, United States
CATEGORIES:Dine in the Vines
ATTACH;FMTTYPE=image/webp:https://www.villamilagrovineyards.com/wp-content/uploads/2024/08/Tent-1.webp
END:VEVENT
END:VCALENDAR