BEGIN:VCALENDAR
VERSION:2.0
PRODID:-//Villa Milagro Vineyards - ECPv6.8.3//NONSGML v1.0//EN
CALSCALE:GREGORIAN
METHOD:PUBLISH
X-WR-CALNAME:Villa Milagro Vineyards
X-ORIGINAL-URL:https://www.villamilagrovineyards.com
X-WR-CALDESC:Events for Villa Milagro Vineyards
REFRESH-INTERVAL;VALUE=DURATION:PT1H
X-Robots-Tag:noindex
X-PUBLISHED-TTL:PT1H
BEGIN:VTIMEZONE
TZID:UTC
BEGIN:STANDARD
TZOFFSETFROM:+0000
TZOFFSETTO:+0000
TZNAME:UTC
DTSTART:20250101T000000
END:STANDARD
END:VTIMEZONE
BEGIN:VEVENT
DTSTART;TZID=UTC:20250920T183000
DTEND;TZID=UTC:20250920T183000
DTSTAMP:20260423T235234
CREATED:20250820T192305Z
LAST-MODIFIED:20260421T202935Z
UID:6857-1758393000-1758393000@www.villamilagrovineyards.com
SUMMARY:Dine in the Vines - French Country Dinner
DESCRIPTION:Dine in the Vines \nTickets\nFrench Country Dinner\nSaturday September 20th\n6:15 Seating begins – 6:30 Dinner served\n \n\nReservations are Required\nPurchase Tickets Here\n 
URL:https://www.villamilagrovineyards.com/event/dine-in-the-vines-french-country-dinner/
LOCATION:Villa Milagro Vineyards\, 33 County Road 627\, Phillipsburg\, NJ\, 08865\, United States
CATEGORIES:Dine in the Vines
ATTACH;FMTTYPE=image/webp:https://www.villamilagrovineyards.com/wp-content/uploads/2025/08/XVX3EX7NOV4BGBDN5VJMRRST.webp
END:VEVENT
END:VCALENDAR