BEGIN:VCALENDAR
VERSION:2.0
PRODID:-//Villa Milagro Vineyards - ECPv6.8.3//NONSGML v1.0//EN
CALSCALE:GREGORIAN
METHOD:PUBLISH
X-WR-CALNAME:Villa Milagro Vineyards
X-ORIGINAL-URL:https://www.villamilagrovineyards.com
X-WR-CALDESC:Events for Villa Milagro Vineyards
REFRESH-INTERVAL;VALUE=DURATION:PT1H
X-Robots-Tag:noindex
X-PUBLISHED-TTL:PT1H
BEGIN:VTIMEZONE
TZID:UTC
BEGIN:STANDARD
TZOFFSETFROM:+0000
TZOFFSETTO:+0000
TZNAME:UTC
DTSTART:20250101T000000
END:STANDARD
END:VTIMEZONE
BEGIN:VEVENT
DTSTART;VALUE=DATE:20251223
DTEND;VALUE=DATE:20260120
DTSTAMP:20260423T103639
CREATED:20251205T212630Z
LAST-MODIFIED:20251205T212631Z
UID:7492-1766448000-1768867199@www.villamilagrovineyards.com
SUMMARY:Villa Milagro Closing\, December 23rd @ 3PM for the rest of the year.
DESCRIPTION:Villa Milagro Vineyards will close at 3:00pm Tuesday\, December 23 for much overdue rest and recovery!  Merry Christmas! Happy New Year.  Watch for re-opening notice in January.
URL:https://www.villamilagrovineyards.com/event/villa-milagro-closing-december-23rd-3pm-for-the-rest-of-the-year/
CATEGORIES:Concerts,Dine in the Vines,Music at Milagro,Special Events,Wine Sale,Wine Train
END:VEVENT
BEGIN:VEVENT
DTSTART;TZID=UTC:20251019T133000
DTEND;TZID=UTC:20251019T170000
DTSTAMP:20260423T103639
CREATED:20250815T154152Z
LAST-MODIFIED:20250829T132928Z
UID:6844-1760880600-1760893200@www.villamilagrovineyards.com
SUMMARY:The Grey Man Group
DESCRIPTION:Jimmy Leahy\, leader of the Grey Man Group\, started playing guitar at age 7\, learning from his dad\, Harry… a well-known jazz player and a prolific teacher in New Jersey. Jimmy has toured and recorded with John Waite\, Patty Smyth\, Martha Davis\, Gloria Gaynor\, Alison Krauss and has just retired from playing with Dennis DeYoung\, from Styx. \nAdvance Tickets are $20 | At the Door Tickets are $25 \nBuy Your Tickets HERE\n  \n 
URL:https://www.villamilagrovineyards.com/event/the-grey-man-group-2/
LOCATION:Villa Milagro Vineyards\, 33 County Road 627\, Phillipsburg\, NJ\, 08865\, United States
CATEGORIES:Concerts
ATTACH;FMTTYPE=image/jpeg:https://www.villamilagrovineyards.com/wp-content/uploads/2025/06/Grey-Man-Group.jpg
END:VEVENT
BEGIN:VEVENT
DTSTART;TZID=UTC:20251004T183000
DTEND;TZID=UTC:20251004T203000
DTSTAMP:20260423T103639
CREATED:20250815T153056Z
LAST-MODIFIED:20250829T133028Z
UID:6838-1759602600-1759609800@www.villamilagrovineyards.com
SUMMARY:Little Red Rooster Blues Band
DESCRIPTION:In 1988 two Bucks County high school grads started a blues “band” with a guitar and mouth harp. As their popularity grew\, they added a harmonica player (1996) then a drummer in 2013 and bass in 2015.  In addition to blues standards\, Little Red Rooster has produced eight CDs of which seven are all original material.  In 2019 their Lock up and Liquor release won the International Blues Challenge by the Blues Foundation of Memphis.  \nAdvance Tickets: $20 | At the Door Tickets: $25 \nBuy Your Ticket HERE
URL:https://www.villamilagrovineyards.com/event/little-red-rooster-blues-band-2/
LOCATION:Villa Milagro Vineyards\, 33 County Road 627\, Phillipsburg\, NJ\, 08865\, United States
CATEGORIES:Concerts
ATTACH;FMTTYPE=image/jpeg:https://www.villamilagrovineyards.com/wp-content/uploads/2025/08/thumbnail_Little-Red-Rooster-band.jpg
END:VEVENT
BEGIN:VEVENT
DTSTART;TZID=UTC:20250927T183000
DTEND;TZID=UTC:20250927T203000
DTSTAMP:20260423T103639
CREATED:20250808T201728Z
LAST-MODIFIED:20250829T133101Z
UID:6810-1758997800-1759005000@www.villamilagrovineyards.com
SUMMARY:The Hip Replacements
DESCRIPTION:The Hip Replacements – a funky jam band playing instrumental arrangements from the ’90s to the present (think Ed Sheeran\, Eric Clapton\, Sam Smith\, Lorde\, Neil Young\, The Weekend\, John Meyer\, Harry Styles\, Camilla Cabello\, Maroon 5\, Silk Sonic\, Green Day\, and a number of other surprises.) Invite friends and neighbors for a fun evening of great music! Pack a picnic. Wine by bottle. Advance tickets $20. At door $25. TICKETS guarantee table/chairs. \nBuy Your Tickets HERE
URL:https://www.villamilagrovineyards.com/event/concert-under-the-stars-featuring-the-hip-replacements/
LOCATION:Villa Milagro Vineyards\, 33 County Road 627\, Phillipsburg\, NJ\, 08865\, United States
CATEGORIES:Concerts
ATTACH;FMTTYPE=image/jpeg:https://www.villamilagrovineyards.com/wp-content/uploads/2025/08/thumbnail_The-Hip-Replacements.jpg
END:VEVENT
BEGIN:VEVENT
DTSTART;TZID=UTC:20250914T133000
DTEND;TZID=UTC:20250914T170000
DTSTAMP:20260423T103639
CREATED:20250808T201553Z
LAST-MODIFIED:20250829T133126Z
UID:6808-1757856600-1757869200@www.villamilagrovineyards.com
SUMMARY:Full Grown Men
DESCRIPTION:Rock out to classic tunes from the Beatles\, Stones\, and more with Full Grown Men Band. Pack a picnic and enjoy wine by the bottle. Advance tickets $20; $25 at the door. Tickets guarantee table and chairs. \nBuy Your Tickets HERE
URL:https://www.villamilagrovineyards.com/event/concert-under-the-stars-featuring-full-grown-men/
LOCATION:Villa Milagro Vineyards\, 33 County Road 627\, Phillipsburg\, NJ\, 08865\, United States
CATEGORIES:Concerts
ATTACH;FMTTYPE=image/png:https://www.villamilagrovineyards.com/wp-content/uploads/2025/08/Screenshot-2025-08-15-111909.png
END:VEVENT
BEGIN:VEVENT
DTSTART;TZID=UTC:20250824T133000
DTEND;TZID=UTC:20250824T170000
DTSTAMP:20260423T103639
CREATED:20250724T153916Z
LAST-MODIFIED:20250801T220554Z
UID:6500-1756042200-1756054800@www.villamilagrovineyards.com
SUMMARY:The Grey Man Group
DESCRIPTION:Jimmy Leahy\, leader of the Grey Man Group\, started playing guitar at age 7\, learning from his dad\, Harry… a well-known jazz player and a prolific teacher in New Jersey. Jimmy has toured and recorded with John Waite\, Patty Smyth\, Martha Davis\, Gloria Gaynor\, Alison Krauss and has just retired from playing with Dennis DeYoung\, from Styx. \nAdvance Tickets are $20 | At the Door Tickets are $25 \nTICKETS HERE
URL:https://www.villamilagrovineyards.com/event/the-grey-man-group/
LOCATION:Villa Milagro Vineyards\, 33 County Road 627\, Phillipsburg\, NJ\, 08865\, United States
CATEGORIES:Concerts
ATTACH;FMTTYPE=image/jpeg:https://www.villamilagrovineyards.com/wp-content/uploads/2025/07/8_20-Grey-Man-Group1-1.jpg
END:VEVENT
BEGIN:VEVENT
DTSTART;TZID=UTC:20250810T120000
DTEND;TZID=UTC:20250810T170000
DTSTAMP:20260423T103639
CREATED:20250724T153535Z
LAST-MODIFIED:20250801T220612Z
UID:6496-1754827200-1754845200@www.villamilagrovineyards.com
SUMMARY:Acute Inflections
DESCRIPTION:A talented musical duo featuring a combination of melody\, mood\, marriage\, and message\, offering an unforgettable live music experience. Their performances are known and loved nationally and internationally for their energy\, audience interaction\, and representation of love and community. \nThey will be performing\, back to back\, at Villa Milagro Vineyards on Sunday\, August 10th: \n\n12PM-2PM\n2PM-5PM\n\n\n\n\nAdvance Tickets: $20 | At the Door Tickets: $25
URL:https://www.villamilagrovineyards.com/event/acute-inflections/
LOCATION:Villa Milagro Vineyards\, 33 County Road 627\, Phillipsburg\, NJ\, 08865\, United States
CATEGORIES:Concerts
ATTACH;FMTTYPE=image/jpeg:https://www.villamilagrovineyards.com/wp-content/uploads/2025/07/86-Acute-Inflections.jpg
END:VEVENT
BEGIN:VEVENT
DTSTART;TZID=UTC:20250809T183000
DTEND;TZID=UTC:20250809T203000
DTSTAMP:20260423T103639
CREATED:20250718T155717Z
LAST-MODIFIED:20250801T220537Z
UID:6462-1754764200-1754771400@www.villamilagrovineyards.com
SUMMARY:The Moon Dwellers
DESCRIPTION:The Moon Dwellers\, a local Hunterdon County band of three talented musicians\, performs New Orleans\, Blues\, folk-rock plus originals. Wear your dance shoes! Pack a picnic. Wine by bottle. Advance tickets $15. At door $20. TICKETS guarantee table/chairs. \nAdvance Tickets: $20 | At the Door Tickets: $25 \nTICKETS HERE
URL:https://www.villamilagrovineyards.com/event/concert-under-the-stars-featuring-the-moon-dwellers/
LOCATION:Villa Milagro Vineyards\, 33 County Road 627\, Phillipsburg\, NJ\, 08865\, United States
CATEGORIES:Concerts
ATTACH;FMTTYPE=image/jpeg:https://www.villamilagrovineyards.com/wp-content/uploads/2025/07/8_5-Moon-Dwellers-1-1.jpg
END:VEVENT
END:VCALENDAR