BEGIN:VCALENDAR
VERSION:2.0
PRODID:-//Villa Milagro Vineyards - ECPv6.8.3//NONSGML v1.0//EN
CALSCALE:GREGORIAN
METHOD:PUBLISH
X-WR-CALNAME:Villa Milagro Vineyards
X-ORIGINAL-URL:https://www.villamilagrovineyards.com
X-WR-CALDESC:Events for Villa Milagro Vineyards
REFRESH-INTERVAL;VALUE=DURATION:PT1H
X-Robots-Tag:noindex
X-PUBLISHED-TTL:PT1H
BEGIN:VTIMEZONE
TZID:UTC
BEGIN:STANDARD
TZOFFSETFROM:+0000
TZOFFSETTO:+0000
TZNAME:UTC
DTSTART:20260101T000000
END:STANDARD
END:VTIMEZONE
BEGIN:VEVENT
DTSTART;TZID=UTC:20260523T110000
DTEND;TZID=UTC:20260524T170000
DTSTAMP:20260423T115449
CREATED:20260417T182323Z
LAST-MODIFIED:20260421T201246Z
UID:8088-1779534000-1779642000@www.villamilagrovineyards.com
SUMMARY:Savory Irish Tidbits while you sample wine
DESCRIPTION:Sample complimentary Irish cheese bread with your wine tasting.   Bring a picnic or buy one of our delicious charcuterie boxes to enjoy on the porch\, under the pergola or sitting on the lawn.  Breathtaking views to help you relax and soak in nature.
URL:https://www.villamilagrovineyards.com/event/savory-irish-tidbits/
LOCATION:Villa Milagro Vineyards\, 33 County Road 627\, Phillipsburg\, NJ\, 08865\, United States
CATEGORIES:Special Events
ATTACH;FMTTYPE=image/jpeg:https://www.villamilagrovineyards.com/wp-content/uploads/2026/04/Irish-cheese-bread.jpg
END:VEVENT
BEGIN:VEVENT
DTSTART;TZID=UTC:20260523T130000
DTEND;TZID=UTC:20260523T170000
DTSTAMP:20260423T115449
CREATED:20260417T182929Z
LAST-MODIFIED:20260417T182929Z
UID:8091-1779541200-1779555600@www.villamilagrovineyards.com
SUMMARY:Music at Milagro - Sean Gough
DESCRIPTION:Sean Gough tickles the keyboard with his creative renditions of standard American music\, European classical music and currently popular songs.  Your ears will experience a symphony of sound from his keyboard.
URL:https://www.villamilagrovineyards.com/event/music-at-milagro-sean-gough/
LOCATION:Villa Milagro Vineyards\, 33 County Road 627\, Phillipsburg\, NJ\, 08865\, United States
CATEGORIES:Music at Milagro
ATTACH;FMTTYPE=image/jpeg:https://www.villamilagrovineyards.com/wp-content/uploads/2025/06/Sean-Gough.jpg
END:VEVENT
END:VCALENDAR