BEGIN:VCALENDAR
VERSION:2.0
PRODID:-//Villa Milagro Vineyards - ECPv6.8.3//NONSGML v1.0//EN
CALSCALE:GREGORIAN
METHOD:PUBLISH
X-WR-CALNAME:Villa Milagro Vineyards
X-ORIGINAL-URL:https://www.villamilagrovineyards.com
X-WR-CALDESC:Events for Villa Milagro Vineyards
REFRESH-INTERVAL;VALUE=DURATION:PT1H
X-Robots-Tag:noindex
X-PUBLISHED-TTL:PT1H
BEGIN:VTIMEZONE
TZID:UTC
BEGIN:STANDARD
TZOFFSETFROM:+0000
TZOFFSETTO:+0000
TZNAME:UTC
DTSTART:20260101T000000
END:STANDARD
END:VTIMEZONE
BEGIN:VEVENT
DTSTART;TZID=UTC:20260516T110000
DTEND;TZID=UTC:20260517T170000
DTSTAMP:20260423T115450
CREATED:20260417T181054Z
LAST-MODIFIED:20260417T181054Z
UID:8081-1778929200-1779037200@www.villamilagrovineyards.com
SUMMARY:Savory Italian Tidbits while you sample wine
DESCRIPTION:Sample Bignolati  – Italian Sausage Bread – with your wine tasting this weekend.  See the vineyard in full leaf\, inhale the rich soil smells of spring\, listen to native birds and enjoy great wines made from grapes grown in the vineyard you are overlooking.  Inhale!  Relax!
URL:https://www.villamilagrovineyards.com/event/savory-italian-tidbits-while-you-sample-wine/
LOCATION:Villa Milagro Vineyards\, 33 County Road 627\, Phillipsburg\, NJ\, 08865\, United States
CATEGORIES:Special Events
ATTACH;FMTTYPE=image/jpeg:https://www.villamilagrovineyards.com/wp-content/uploads/2026/04/Italian-sausage-bread-wine-crop.jpg
END:VEVENT
BEGIN:VEVENT
DTSTART;TZID=UTC:20260516T130000
DTEND;TZID=UTC:20260516T170000
DTSTAMP:20260423T115450
CREATED:20260417T181603Z
LAST-MODIFIED:20260417T181603Z
UID:8085-1778936400-1778950800@www.villamilagrovineyards.com
SUMMARY:Music at Milagro - Ed Wall
DESCRIPTION:If you like Billy Joel and Sir Elton John\, you will love Ed Wall.  Close your eyes and you will swear you are listening to the originals!  He gives a great performance.  Come tap you feet and sing along.
URL:https://www.villamilagrovineyards.com/event/music-at-milagro-ed-wall/
LOCATION:Villa Milagro Vineyards\, 33 County Road 627\, Phillipsburg\, NJ\, 08865\, United States
CATEGORIES:Music at Milagro
ATTACH;FMTTYPE=image/jpeg:https://www.villamilagrovineyards.com/wp-content/uploads/2026/04/Ed-Wall.jpg
END:VEVENT
BEGIN:VEVENT
DTSTART;TZID=UTC:20260516T183000
DTEND;TZID=UTC:20260516T213000
DTSTAMP:20260423T115450
CREATED:20250730T135004Z
LAST-MODIFIED:20260422T195621Z
UID:6532-1778956200-1778967000@www.villamilagrovineyards.com
SUMMARY:Dine in the Vines - A Taste of Thailand
DESCRIPTION:Dine in the Vines\nalfresco Thai dinner served as the sun sets over the vineyard \nTickets\nSaturday May 16\, 2026\n6:15 seating begins – 6:30 dinner served\nAcacia Thai Restaurant in Phillipsburg leads our culinary excursion \nwith exotic ingredients and dishes \nAppetizers\nPo Pah Tod – spring rolls with GadoGado – peanut sauce \nKai Look Keuy – “son-in-law” egg \nSom Tum – green papaya salad \nMain Course\nGaeng kiew waan – green curry with chicken & veggies \nHom Mali – jasmine rice \nRoti – Thai flat bread \nCoffee & Dessert\nCoconut ice cream with Fresh Mango \nCoffee or Tea \nRESERVATIONS ARE REQUIRED \nPurchase Tickets
URL:https://www.villamilagrovineyards.com/event/hawaiian-luau/
LOCATION:Villa Milagro Vineyards\, 33 County Road 627\, Phillipsburg\, NJ\, 08865\, United States
CATEGORIES:Dine in the Vines
ATTACH;FMTTYPE=image/jpeg:https://www.villamilagrovineyards.com/wp-content/uploads/2025/07/Thai-green-curry-with-chix.jpg
END:VEVENT
END:VCALENDAR