BEGIN:VCALENDAR
VERSION:2.0
PRODID:-//Villa Milagro Vineyards - ECPv6.8.3//NONSGML v1.0//EN
CALSCALE:GREGORIAN
METHOD:PUBLISH
X-WR-CALNAME:Villa Milagro Vineyards
X-ORIGINAL-URL:https://www.villamilagrovineyards.com
X-WR-CALDESC:Events for Villa Milagro Vineyards
REFRESH-INTERVAL;VALUE=DURATION:PT1H
X-Robots-Tag:noindex
X-PUBLISHED-TTL:PT1H
BEGIN:VTIMEZONE
TZID:UTC
BEGIN:STANDARD
TZOFFSETFROM:+0000
TZOFFSETTO:+0000
TZNAME:UTC
DTSTART:20250101T000000
END:STANDARD
END:VTIMEZONE
BEGIN:VEVENT
DTSTART;TZID=UTC:20251102T110000
DTEND;TZID=UTC:20251102T130000
DTSTAMP:20260419T155445
CREATED:20251016T205758Z
LAST-MODIFIED:20251021T202957Z
UID:7180-1762081200-1762088400@www.villamilagrovineyards.com
SUMMARY:Peak Fall Foliage
DESCRIPTION:Roll our our way! First\, fall colors\, antique cars & bacon galore. \nThis is a great weekend to “roll out” our way. You can wallow in Bacon in Easton (Bacon Fest)\, explore local history (Explore Warren County History Trail)\, and see vintage cars (Fall Rollout – Riegelsville\, PA). Follow up with a great bottle of wine here at the vineyard to see PEAK fall foliage over a panoramic view of four counties in two states! \nBacon Fest: https://www.discoverlehighvalley.com/events/major-events-festivals/pa-bacon-fest/ \nRiegelsville Car Show: https://riegelsville.org/?page_id=600  \nWarren County History Trail: https://www.warrenhistorytrail.org/
URL:https://www.villamilagrovineyards.com/event/peak-fall-foliage-2/
LOCATION:Villa Milagro Vineyards\, 33 County Road 627\, Phillipsburg\, NJ\, 08865\, United States
CATEGORIES:Special Events
ATTACH;FMTTYPE=image/jpeg:https://www.villamilagrovineyards.com/wp-content/uploads/2025/10/thumbnail_2022-Fall-10-26-house.jpg
END:VEVENT
END:VCALENDAR