BEGIN:VCALENDAR
VERSION:2.0
PRODID:-//Villa Milagro Vineyards - ECPv6.8.3//NONSGML v1.0//EN
CALSCALE:GREGORIAN
METHOD:PUBLISH
X-ORIGINAL-URL:https://www.villamilagrovineyards.com
X-WR-CALDESC:Events for Villa Milagro Vineyards
REFRESH-INTERVAL;VALUE=DURATION:PT1H
X-Robots-Tag:noindex
X-PUBLISHED-TTL:PT1H
BEGIN:VTIMEZONE
TZID:UTC
BEGIN:STANDARD
TZOFFSETFROM:+0000
TZOFFSETTO:+0000
TZNAME:UTC
DTSTART:20250101T000000
END:STANDARD
END:VTIMEZONE
BEGIN:VEVENT
DTSTART;TZID=UTC:20251101T110000
DTEND;TZID=UTC:20251101T130000
DTSTAMP:20260419T155533
CREATED:20251016T205327Z
LAST-MODIFIED:20251021T203124Z
UID:7173-1761994800-1762002000@www.villamilagrovineyards.com
SUMMARY:Peak Fall Foliage
DESCRIPTION:  \nRoll our our way! First\, fall colors\, antique cars & bacon galore. \nThis is a great weekend to “roll out” our way. You can wallow in Bacon in Easton (Bacon Fest)\, explore local history (Explore Warren County History Trail)\, and see vintage cars (Fall Rollout – Riegelsville\, PA). Follow up with a great bottle of wine here at the vineyard to see PEAK fall foliage over a panoramic view of four counties in two states! \nBacon Fest: https://www.discoverlehighvalley.com/events/major-events-festivals/pa-bacon-fest/ \nRiegelsville Car Show: https://riegelsville.org/?page_id=600  \nWarren County History Trail: https://www.warrenhistorytrail.org/
URL:https://www.villamilagrovineyards.com/event/peak-fall-foliage/
LOCATION:Villa Milagro Vineyards\, 33 County Road 627\, Phillipsburg\, NJ\, 08865\, United States
CATEGORIES:Special Events
ATTACH;FMTTYPE=image/jpeg:https://www.villamilagrovineyards.com/wp-content/uploads/2025/10/thumbnail_2022-Fall-10-26-house.jpg
END:VEVENT
BEGIN:VEVENT
DTSTART;TZID=UTC:20251101T130000
DTEND;TZID=UTC:20251101T170000
DTSTAMP:20260419T155533
CREATED:20251021T200008Z
LAST-MODIFIED:20251021T201128Z
UID:7188-1762002000-1762016400@www.villamilagrovineyards.com
SUMMARY:Music at Milagro - Featuring Sonia Weimann
DESCRIPTION:A multitalented musician\, Sonia Weimann brings her unique creative flair to an eclectic mix of music\, from classic rock to jazz standards. Her warm tones and inviting style often inspire other musicians to join in—so each performance holds the promise of surprise guests. A gifted guitarist and “silver-throated” vocalist\, Sonia is also a neuroscientist—yes\, really—who performs straight from the heart. Pack a picnic and enjoy the show. Reservations are required for groups of four or more—call 908-995-2072.
URL:https://www.villamilagrovineyards.com/event/sonia-weimann/
LOCATION:Villa Milagro Vineyards\, 33 County Road 627\, Phillipsburg\, NJ\, 08865\, United States
CATEGORIES:Music at Milagro
ATTACH;FMTTYPE=image/jpeg:https://www.villamilagrovineyards.com/wp-content/uploads/2025/06/Sonia-Weinmann-2.jpg
END:VEVENT
END:VCALENDAR