BEGIN:VCALENDAR
VERSION:2.0
PRODID:-//Villa Milagro Vineyards - ECPv6.8.3//NONSGML v1.0//EN
CALSCALE:GREGORIAN
METHOD:PUBLISH
X-WR-CALNAME:Villa Milagro Vineyards
X-ORIGINAL-URL:https://www.villamilagrovineyards.com
X-WR-CALDESC:Events for Villa Milagro Vineyards
REFRESH-INTERVAL;VALUE=DURATION:PT1H
X-Robots-Tag:noindex
X-PUBLISHED-TTL:PT1H
BEGIN:VTIMEZONE
TZID:UTC
BEGIN:STANDARD
TZOFFSETFROM:+0000
TZOFFSETTO:+0000
TZNAME:UTC
DTSTART:20250101T000000
END:STANDARD
END:VTIMEZONE
BEGIN:VEVENT
DTSTART;TZID=UTC:20251019T133000
DTEND;TZID=UTC:20251019T170000
DTSTAMP:20260419T155441
CREATED:20250815T154152Z
LAST-MODIFIED:20250829T132928Z
UID:6844-1760880600-1760893200@www.villamilagrovineyards.com
SUMMARY:The Grey Man Group
DESCRIPTION:Jimmy Leahy\, leader of the Grey Man Group\, started playing guitar at age 7\, learning from his dad\, Harry… a well-known jazz player and a prolific teacher in New Jersey. Jimmy has toured and recorded with John Waite\, Patty Smyth\, Martha Davis\, Gloria Gaynor\, Alison Krauss and has just retired from playing with Dennis DeYoung\, from Styx. \nAdvance Tickets are $20 | At the Door Tickets are $25 \nBuy Your Tickets HERE\n  \n 
URL:https://www.villamilagrovineyards.com/event/the-grey-man-group-2/
LOCATION:Villa Milagro Vineyards\, 33 County Road 627\, Phillipsburg\, NJ\, 08865\, United States
CATEGORIES:Concerts
ATTACH;FMTTYPE=image/jpeg:https://www.villamilagrovineyards.com/wp-content/uploads/2025/06/Grey-Man-Group.jpg
END:VEVENT
END:VCALENDAR